BEGIN:VCALENDAR
VERSION:2.0
PRODID:-//NOR Communications Group｜ノアコミュニケーションズグループ公式サイト - ECPv5.0.2.1//NONSGML v1.0//EN
CALSCALE:GREGORIAN
METHOD:PUBLISH
X-WR-CALNAME:NOR Communications Group｜ノアコミュニケーションズグループ公式サイト
X-ORIGINAL-URL:https://norcommunications.com
X-WR-CALDESC:NOR Communications Group｜ノアコミュニケーションズグループ公式サイト のイベント
BEGIN:VTIMEZONE
TZID:Asia/Tokyo
BEGIN:STANDARD
TZOFFSETFROM:+0900
TZOFFSETTO:+0900
TZNAME:JST
DTSTART:20220101T000000
END:STANDARD
END:VTIMEZONE
BEGIN:VEVENT
DTSTART;VALUE=DATE:20220429
DTEND;VALUE=DATE:20220501
DTSTAMP:20260426T001522
CREATED:20220415T143746Z
LAST-MODIFIED:20220415T144059Z
UID:11321-1651190400-1651363199@norcommunications.com
SUMMARY:※ツクツクシステムメンテナンス
DESCRIPTION:リニューアルに伴うシステムメンテナンス実施 \n■メンテナンス概要\n日時：4月29日（金）0時～4月30日（土）24時（約2日間を予定）\n内容：大規模リニューアルに伴うサイトリプレースおよびデータ移行、メンテナンス\n影響範囲：以下に挙げるサイトおよび機能が停止いたします。\n１．CMS全てのサービス（集客・メールマガジン配信を含む）\n２．ツクツク全サイト\n====================================================\n※上記期間中に配信予約されたメールマガジンはメンテナンス明け後に順次自動配信されます。ご予定に合わない場合は事前に取消操作をお願い致します。 \n
URL:https://norcommunications.com/events/info-2/
CATEGORIES:インフォメーション
END:VEVENT
END:VCALENDAR