BEGIN:VCALENDAR
VERSION:2.0
PRODID:-//NOR Communications Group｜ノアコミュニケーションズグループ公式サイト - ECPv5.0.2.1//NONSGML v1.0//EN
CALSCALE:GREGORIAN
METHOD:PUBLISH
X-WR-CALNAME:NOR Communications Group｜ノアコミュニケーションズグループ公式サイト
X-ORIGINAL-URL:https://norcommunications.com
X-WR-CALDESC:NOR Communications Group｜ノアコミュニケーションズグループ公式サイト のイベント
BEGIN:VTIMEZONE
TZID:Asia/Tokyo
BEGIN:STANDARD
TZOFFSETFROM:+0900
TZOFFSETTO:+0900
TZNAME:JST
DTSTART:20220101T000000
END:STANDARD
END:VTIMEZONE
BEGIN:VEVENT
DTSTART;VALUE=DATE:20220528
DTEND;VALUE=DATE:20220529
DTSTAMP:20260426T013658
CREATED:20220524T174217Z
LAST-MODIFIED:20220524T174337Z
UID:11523-1653696000-1653782399@norcommunications.com
SUMMARY:●5/29開催特別企画セミナー申込締切日
DESCRIPTION:5/29開催特別企画セミナー「特別企画SMT①基本編／ZOOMウェビナー」のウェブチケット販売は本日23時59分までとなります。 \nhttps://norcommunications.com/events/webinar-284/ \n
URL:https://norcommunications.com/events/ticket-27/
CATEGORIES:インフォメーション
END:VEVENT
END:VCALENDAR