BEGIN:VCALENDAR
VERSION:2.0
PRODID:-//NOR Communications Group｜ノアコミュニケーションズグループ公式サイト - ECPv5.0.2.1//NONSGML v1.0//EN
CALSCALE:GREGORIAN
METHOD:PUBLISH
X-WR-CALNAME:NOR Communications Group｜ノアコミュニケーションズグループ公式サイト
X-ORIGINAL-URL:https://norcommunications.com
X-WR-CALDESC:NOR Communications Group｜ノアコミュニケーションズグループ公式サイト のイベント
BEGIN:VTIMEZONE
TZID:Asia/Tokyo
BEGIN:STANDARD
TZOFFSETFROM:+0900
TZOFFSETTO:+0900
TZNAME:JST
DTSTART:20220101T000000
END:STANDARD
END:VTIMEZONE
BEGIN:VEVENT
DTSTART;VALUE=DATE:20220715
DTEND;VALUE=DATE:20220716
DTSTAMP:20260425T212238
CREATED:20220712T200458Z
LAST-MODIFIED:20220712T200532Z
UID:11762-1657843200-1657929599@norcommunications.com
SUMMARY:●7/16開催特別企画セミナー申込締切日
DESCRIPTION:7/16開催特別企画セミナー「新マーケットプレイス勉強会：第二弾 ／ZOOMウェビナー」のウェブチケット販売は本日23時59分までとなります。 \nhttps://norcommunications.com/events/webinar-298/ \n
URL:https://norcommunications.com/events/ticket-28/
CATEGORIES:インフォメーション
END:VEVENT
END:VCALENDAR