BEGIN:VCALENDAR
VERSION:2.0
PRODID:-//NOR Communications Group｜ノアコミュニケーションズグループ公式サイト - ECPv5.0.2.1//NONSGML v1.0//EN
CALSCALE:GREGORIAN
METHOD:PUBLISH
X-WR-CALNAME:NOR Communications Group｜ノアコミュニケーションズグループ公式サイト
X-ORIGINAL-URL:https://norcommunications.com
X-WR-CALDESC:NOR Communications Group｜ノアコミュニケーションズグループ公式サイト のイベント
BEGIN:VTIMEZONE
TZID:Asia/Tokyo
BEGIN:STANDARD
TZOFFSETFROM:+0900
TZOFFSETTO:+0900
TZNAME:JST
DTSTART:20220101T000000
END:STANDARD
END:VTIMEZONE
BEGIN:VEVENT
DTSTART;VALUE=DATE:20220820
DTEND;VALUE=DATE:20220821
DTSTAMP:20260425T193116
CREATED:20220730T101829Z
LAST-MODIFIED:20220730T101928Z
UID:11870-1660953600-1661039999@norcommunications.com
SUMMARY:●8/21開催特別企画セミナー申込締切日
DESCRIPTION:8/21開催特別企画セミナー「新マーケットプレイス勉強会／ZOOMウェビナー」のウェブチケット販売は本日23時59分までとなります。 \nhttps://norcommunications.com/events/webinar-330/ \n
URL:https://norcommunications.com/events/ticket-30/
CATEGORIES:インフォメーション
END:VEVENT
END:VCALENDAR