BEGIN:VCALENDAR
VERSION:2.0
PRODID:-//NOR Communications Group｜ノアコミュニケーションズグループ公式サイト - ECPv5.0.2.1//NONSGML v1.0//EN
CALSCALE:GREGORIAN
METHOD:PUBLISH
X-WR-CALNAME:NOR Communications Group｜ノアコミュニケーションズグループ公式サイト
X-ORIGINAL-URL:https://norcommunications.com
X-WR-CALDESC:NOR Communications Group｜ノアコミュニケーションズグループ公式サイト のイベント
BEGIN:VTIMEZONE
TZID:Asia/Tokyo
BEGIN:STANDARD
TZOFFSETFROM:+0900
TZOFFSETTO:+0900
TZNAME:JST
DTSTART:20220101T000000
END:STANDARD
END:VTIMEZONE
BEGIN:VEVENT
DTSTART;TZID=Asia/Tokyo:20220522T190000
DTEND;TZID=Asia/Tokyo:20220522T220000
DTSTAMP:20260425T130040
CREATED:20220429T082814Z
LAST-MODIFIED:20220522T014350Z
UID:11342-1653246000-1653256800@norcommunications.com
SUMMARY:19:00～特別企画 新マーケットプレイス勉強会 ※番外編『リニューアルプロジェクトについて』【オンラインセミナー／ZOOMウェビナー】
DESCRIPTION:特別企画 新マーケットプレイス勉強会 ※番外編『リニューアルプロジェクトについて』\n（講師：星昌輝）\nリアルタイム配信オンラインセミナー \n■ウェブチケット（セミナー内容／講師プロフィール／参加方法）\nhttps://ticket.tsuku2.jp/events-detail/26250314702022 \n《資料ダウンロード》\n⇒ ビルダー第二フェーズ販売促進費分配比率（代理店報酬制度勉強会資料4、7ページ補足） \nウェブチケットページに記載の【チケット詳細】をよくご確認の上、ご参加くださいますようお願い申し上げます。\n※ 代理店ユーザーアカウントでログインの上、ご利用ください。代理店ユーザーアカウントでログインされませんとご希望の商品が表示されない場合がございます。\n※ 本セミナーの特別な主旨および、初のZOOMウェビナーを採用した開催であることを考慮し、今回限定で「ツクツク!!で販売可能な最低価格」に設定をさせていただきました。新たな取り組みですので、入室手続等に何かと手間取ることがあるかもしれませんが、ご了承くださいますようお願い申し上げます。一社でも多くの代理店皆様のご参加をお待ちしております。 \n\n★必ずご確認ください★\n本セミナーはZOOMウェビナーを使用しての配信となります。ZOOMミーテイングを利⽤した通常のノアコミュニケーションズオンラインセミナーの参加⽅法とは異なります。 \n
URL:https://norcommunications.com/events/webinar-285/
LOCATION:ZOOMによるオンライン配信
CATEGORIES:オンラインセミナー,特別セミナー
END:VEVENT
END:VCALENDAR