BEGIN:VCALENDAR
VERSION:2.0
PRODID:-//NOR Communications Group｜ノアコミュニケーションズグループ公式サイト - ECPv5.0.2.1//NONSGML v1.0//EN
CALSCALE:GREGORIAN
METHOD:PUBLISH
X-WR-CALNAME:NOR Communications Group｜ノアコミュニケーションズグループ公式サイト
X-ORIGINAL-URL:https://norcommunications.com
X-WR-CALDESC:NOR Communications Group｜ノアコミュニケーションズグループ公式サイト のイベント
BEGIN:VTIMEZONE
TZID:Asia/Tokyo
BEGIN:STANDARD
TZOFFSETFROM:+0900
TZOFFSETTO:+0900
TZNAME:JST
DTSTART:20220101T000000
END:STANDARD
END:VTIMEZONE
BEGIN:VEVENT
DTSTART;TZID=Asia/Tokyo:20220828T190000
DTEND;TZID=Asia/Tokyo:20220828T220000
DTSTAMP:20260425T212722
CREATED:20220721T214122Z
LAST-MODIFIED:20220820T220141Z
UID:11836-1661713200-1661724000@norcommunications.com
SUMMARY:19:00～特別企画SMT☆基本編【オンラインセミナー／ZOOMウェビナー】
DESCRIPTION:特別企画ショップマスタートレーニング☆基本編\n（講師：星昌輝）\nリアルタイム配信オンラインセミナー \n■ウェブチケット（セミナー内容／講師プロフィール／参加方法）\nhttps://ticket.tsuku2.jp/events-detail/22890022280240\n（セミナー開始2時間前までに必ずウェビナー登録を完了してください）\nウェブチケットページに記載の【チケット詳細】【ご利用方法／お申込の流れ】【注意事項・その他】をよくご確認の上、ご参加くださいますようお願い申し上げます。\n※ 開始時刻が過ぎましてもウェブチケットの購入およびオンラインセミナーへの参加は可能ですが、「ウェビナー登録用URL」の送信に15分以上お時間がかかる場合がございます。予めご了承ください。\n※ 代理店ユーザーアカウントでログインの上、ご利用ください。代理店ユーザーアカウントでログインされませんとご希望の商品が表示されない場合がございます。 \n\n★必ずご確認ください★\n本セミナーはZOOMウェビナーを使用しての配信となります。ZOOMミーテイングを利⽤した通常のノアコミュニケーションズオンラインセミナーの参加⽅法とは異なります。 \n
URL:https://norcommunications.com/events/webinar-332/
LOCATION:ZOOMによるオンライン配信
CATEGORIES:オンラインセミナー,ショップマスタートレーニング,特別セミナー
END:VEVENT
END:VCALENDAR