BEGIN:VCALENDAR
VERSION:2.0
PRODID:-//NOR Communications Group｜ノアコミュニケーションズグループ公式サイト - ECPv5.0.2.1//NONSGML v1.0//EN
CALSCALE:GREGORIAN
METHOD:PUBLISH
X-WR-CALNAME:NOR Communications Group｜ノアコミュニケーションズグループ公式サイト
X-ORIGINAL-URL:https://norcommunications.com
X-WR-CALDESC:NOR Communications Group｜ノアコミュニケーションズグループ公式サイト のイベント
BEGIN:VTIMEZONE
TZID:Asia/Tokyo
BEGIN:STANDARD
TZOFFSETFROM:+0900
TZOFFSETTO:+0900
TZNAME:JST
DTSTART:20190101T000000
END:STANDARD
END:VTIMEZONE
BEGIN:VEVENT
DTSTART;TZID=Asia/Tokyo:20190716T133000
DTEND;TZID=Asia/Tokyo:20190716T200000
DTSTAMP:20260425T172036
CREATED:20190704T195222Z
LAST-MODIFIED:20190704T195222Z
UID:6855-1563283800-1563307200@norcommunications.com
SUMMARY:13:30-沖縄1DAY特別セミナー
DESCRIPTION:1DAY特別セミナー【沖縄】\n内容：クムクム代理店事業をイチから学ぶ特別企画\n講師：松尾悠司GM／竹内大将GM／中山浩和EM／小谷実穂EM\n会場：宜野湾マリン支援センター《地図》\n受付：13:00~13:30\n時間：13:30~20:00\n費用：2\,500円\n※ウェブチケットは必要ありません。会場にて受付をお済ませください。\n※クムクム代理店関係者の方でしたらどなたでもご参加いただけます。 \n
URL:https://norcommunications.com/events/okinawa/
LOCATION:宜野湾マリン支援センター\, 大山7-10-27\, 宜野湾市\, 沖縄県\, 901-2223\, 日本
CATEGORIES:ワークショップ,沖縄
END:VEVENT
END:VCALENDAR