BEGIN:VCALENDAR
VERSION:2.0
PRODID:-//NOR Communications Group｜ノアコミュニケーションズグループ公式サイト - ECPv5.0.2.1//NONSGML v1.0//EN
CALSCALE:GREGORIAN
METHOD:PUBLISH
X-WR-CALNAME:NOR Communications Group｜ノアコミュニケーションズグループ公式サイト
X-ORIGINAL-URL:https://norcommunications.com
X-WR-CALDESC:NOR Communications Group｜ノアコミュニケーションズグループ公式サイト のイベント
BEGIN:VTIMEZONE
TZID:Asia/Tokyo
BEGIN:STANDARD
TZOFFSETFROM:+0900
TZOFFSETTO:+0900
TZNAME:JST
DTSTART:20190101T000000
END:STANDARD
END:VTIMEZONE
BEGIN:VEVENT
DTSTART;TZID=Asia/Tokyo:20191029T140000
DTEND;TZID=Asia/Tokyo:20191029T173000
DTSTAMP:20260425T122957
CREATED:20190903T130115Z
LAST-MODIFIED:20200106T005709Z
UID:7255-1572357600-1572370200@norcommunications.com
SUMMARY:14:00-沖縄 L&M特別ワークショップ※沖縄ブロック立ち上げ記念セミナー ■Webチケット
DESCRIPTION:リーダーシップ＆マネージメント特別ワークショップ【沖縄】\n講師：星昌輝EM\n会場：沖縄空手会館《地図》\n受付：13:00~14:00\n時間：14:00~17:30\n費用：1\,800円（税込1\,980円）\n《Webチケットはこちらから》 \n※こちらのセミナーはウェブチケット制となっております。\nウェブチケットをお持ちでない方はご入場できませんので予めご了承ください。\nウェブチケットはノアコミュニケーションズ公式ストアよりご購入いただけます。\n（代理店ユーザーアカウントでログインの上、ご利用ください。代理店ユーザーアカウントでログインされませんとご希望の商品が表示されない場合がございます。） \n\n◎講師紹介：星昌輝（ほしまさき）\n1975年5月5日生まれ。東京都武蔵野市出身。\n元トヨタディーラー整備士から23歳で脱サラ。1998年、IT機器販売、ISP販売、ECプロモーション事業に参入し独立。2000年3月、ECプロモーション／ECコンサル事業を目的とし、ノアコミュニケーションズ株式会社設立。2007年よりクムクム株式会社のプロモーションパートナーカンパニーとしてクムクム代理店事業の中核を担い、2019年現在、ECマーケットプレイス「ツクツク!!」「クムクム」の全国約5\,000社の代理店を統括。現在に至るまで約20年間、EC業界の最前線で活動するEC業界のパイオニア。クムクム株式会社社外取締役代理店統括。ノアコミュニケーションズ株式会社代表取締役社長。 \n
URL:https://norcommunications.com/events/okinawa-2/
LOCATION:沖縄空手会館\, 字豊見城854-1\, 豊見城市\, 沖縄県\, 日本
CATEGORIES:リーダーシップ＆マネジメント,ワークショップ,沖縄,特別セミナー
END:VEVENT
END:VCALENDAR