BEGIN:VCALENDAR
VERSION:2.0
PRODID:-//NOR Communications Group｜ノアコミュニケーションズグループ公式サイト - ECPv5.0.2.1//NONSGML v1.0//EN
CALSCALE:GREGORIAN
METHOD:PUBLISH
X-WR-CALNAME:NOR Communications Group｜ノアコミュニケーションズグループ公式サイト
X-ORIGINAL-URL:https://norcommunications.com
X-WR-CALDESC:NOR Communications Group｜ノアコミュニケーションズグループ公式サイト のイベント
BEGIN:VTIMEZONE
TZID:Asia/Tokyo
BEGIN:STANDARD
TZOFFSETFROM:+0900
TZOFFSETTO:+0900
TZNAME:JST
DTSTART:20230101T000000
END:STANDARD
END:VTIMEZONE
BEGIN:VEVENT
DTSTART;TZID=Asia/Tokyo:20231025T133000
DTEND;TZID=Asia/Tokyo:20231025T180000
DTSTAMP:20260424T084833
CREATED:20230831T182144Z
LAST-MODIFIED:20230930T135159Z
UID:12789-1698240600-1698256800@norcommunications.com
SUMMARY:★New★13:30～大阪／零一会.1DAYセミナー【会場セミナー】
DESCRIPTION:大阪／零一会.1DAYセミナー\n(講師：石田浩光／竹内大将)\n会場：大阪コロナホテル\n時間：13時30分～18時（13時受付開始） \n入場ウェブチケット（セミナー内容／講師プロフィール／参加方法）\nhttps://ticket.tsuku2.jp/events-detail/42302518439000\n※9月30日22時販売開始 \n【主催】零一会．\n※1DAYセミナーは零一会.の主催となります。1DAYセミナーに関するお問い合わせはチームマネージャーまでお願いいたします。 \n\nウェブチケットページに記載の【チケット詳細】をよくご確認の上、ご参加くださいますようお願い申し上げます。\n※ ビルダーユーザーアカウントでログインの上、ご利用ください。ビルダーユーザーアカウントでログインされませんとご希望の商品が表示されません。 \n\n
URL:https://norcommunications.com/events/zeroichi-82/
LOCATION:大阪コロナホテル\, 東淀川区西淡路1-3-21\, 大阪府\, 大阪市\, 533-0031\, 日本
CATEGORIES:1DAYセミナー,大阪,特別セミナー,零一会.
END:VEVENT
END:VCALENDAR