BEGIN:VCALENDAR
VERSION:2.0
PRODID:-//NOR Communications Group｜ノアコミュニケーションズグループ公式サイト - ECPv5.0.2.1//NONSGML v1.0//EN
CALSCALE:GREGORIAN
METHOD:PUBLISH
X-WR-CALNAME:NOR Communications Group｜ノアコミュニケーションズグループ公式サイト
X-ORIGINAL-URL:https://norcommunications.com
X-WR-CALDESC:NOR Communications Group｜ノアコミュニケーションズグループ公式サイト のイベント
BEGIN:VTIMEZONE
TZID:Asia/Tokyo
BEGIN:STANDARD
TZOFFSETFROM:+0900
TZOFFSETTO:+0900
TZNAME:JST
DTSTART:20230101T000000
END:STANDARD
END:VTIMEZONE
BEGIN:VEVENT
DTSTART;TZID=Asia/Tokyo:20231205T133000
DTEND;TZID=Asia/Tokyo:20231205T180000
DTSTAMP:20260420T053316
CREATED:20231028T022502Z
LAST-MODIFIED:20231201T171112Z
UID:12909-1701783000-1701799200@norcommunications.com
SUMMARY:13:30～東京／零一会.特別1DAYセミナー ★会場セミナー★
DESCRIPTION:東京／零一会.特別1DAYセミナー\n(講師：石田浩光EM／中山浩和EM／竹内大将EM／小谷実穂Ex.EM／星昌輝Ex.EM)\n会場：銀座フェニックスプラザ\n時間：13時30分～18時（13時受付開始予定） \nウェブチケット（セミナー内容／講師プロフィール／参加方法）\nhttps://ticket.tsuku2.jp/events-detail/41833110023221 \n
URL:https://norcommunications.com/events/zeroichi-103/
CATEGORIES:1DAYセミナー,東京,特別セミナー,零一会.
END:VEVENT
END:VCALENDAR