BEGIN:VCALENDAR
VERSION:2.0
PRODID:-//NOR Communications Group｜ノアコミュニケーションズグループ公式サイト - ECPv5.0.2.1//NONSGML v1.0//EN
CALSCALE:GREGORIAN
METHOD:PUBLISH
X-WR-CALNAME:NOR Communications Group｜ノアコミュニケーションズグループ公式サイト
X-ORIGINAL-URL:https://norcommunications.com
X-WR-CALDESC:NOR Communications Group｜ノアコミュニケーションズグループ公式サイト のイベント
BEGIN:VTIMEZONE
TZID:Asia/Tokyo
BEGIN:STANDARD
TZOFFSETFROM:+0900
TZOFFSETTO:+0900
TZNAME:JST
DTSTART:20170101T000000
END:STANDARD
END:VTIMEZONE
BEGIN:VEVENT
DTSTART;VALUE=DATE:20170625
DTEND;VALUE=DATE:20170626
DTSTAMP:20260419T210854
CREATED:20170119T125059Z
LAST-MODIFIED:20170525T120717Z
UID:2472-1498348800-1498435199@norcommunications.com
SUMMARY:nor communications AWARDS 2017
DESCRIPTION:ノアコミュニケーションズアワード2017\n会場：ヤクルトホール\n受付：13:00~14:00\n時間：14:00~18:30\nチケット：5\,400円\n※チケットに関するお問い合わせ、お申し込みは各代理店までお声がけください。\n※チケットには限定数がございますのでどうぞお早めにお申し込み下さい。 \n・アワード2017の詳細はこちら\n・Facebookイベントページはこちら \n
URL:https://norcommunications.com/events/awards2017/
LOCATION:ヤクルトホール\, 東新橋1-1-19\, 港区\, 東京都\, 105-0021\, Japan
CATEGORIES:アワード
END:VEVENT
END:VCALENDAR