BEGIN:VCALENDAR
VERSION:2.0
PRODID:-//NOR Communications Group｜ノアコミュニケーションズグループ公式サイト - ECPv5.0.2.1//NONSGML v1.0//EN
CALSCALE:GREGORIAN
METHOD:PUBLISH
X-WR-CALNAME:NOR Communications Group｜ノアコミュニケーションズグループ公式サイト
X-ORIGINAL-URL:https://norcommunications.com
X-WR-CALDESC:NOR Communications Group｜ノアコミュニケーションズグループ公式サイト のイベント
BEGIN:VTIMEZONE
TZID:Asia/Tokyo
BEGIN:STANDARD
TZOFFSETFROM:+0900
TZOFFSETTO:+0900
TZNAME:JST
DTSTART:20190101T000000
END:STANDARD
END:VTIMEZONE
BEGIN:VEVENT
DTSTART;TZID=Asia/Tokyo:20190907T190000
DTEND;TZID=Asia/Tokyo:20190907T213000
DTSTAMP:20260426T021359
CREATED:20190825T135852Z
LAST-MODIFIED:20190907T062928Z
UID:7130-1567882800-1567891800@norcommunications.com
SUMMARY:19:00-東京 BT（ウェブチケット制）
DESCRIPTION:ビルダートレーニング【新宿】\n内容：ビルダー必須10ポイントトレーニング\n講師：石田浩光GM／中山浩和EM\n会場：BIZ新宿《地図》\n受付：18:30~19:00\n時間：19:00~21:30\n費用：1\,500円《ウェブチケットはこちらから》\n※B10シート付き \n※こちらのセミナーはウェブチケット制となっております。\nウェブチケットをお持ちでない方はご入場できませんので予めご了承ください。\nウェブチケットはノアコミュニケーションズ公式ストアよりご購入いただけます。\n（代理店ユーザーアカウントでログインの上、ご利用ください。代理店ユーザーアカウントでログインされませんとご希望の商品が表示されない場合がございます。） \n\n〈一部講師：石田浩光〉\n1977年7月4日生まれ。神奈川県小田原市出身。\n1999年21歳の時にIT機器販売代理店事業に携わり、現ノアコミュニケーションズ星代表に出会う。25歳で独立し、ビルメンテナンス、ソフトバンク代理店、健康食品販売、不動産売買、金融コンサルタントなど多くの職業を経て2013年6月よりクムクム代理店事業に参入。セミナー環境無し！代理店数0件！当時全くの未開拓エリアだった新潟県に単身乗り込み、ツクツク市場を開拓。現在では新潟エリアだけで200社以上の代理店網を構築している。全国で4社目のゼネラルマネージャー。 \n〈二部講師：中山浩和〉\n1979年10月19日生まれ。東京都大田区出身。\n日本工学院インターネット科を卒業するもプロレスに憧れ、プロレスラーを目指しつつラーメン店で修行。20代にラーメン事業で独立した異色の経歴の持ち主。ラーメン事業は参入から15年、フランチャイズ店含めて9店舗展開する「ラーメン醤道グループ」のオーナー。2013年より、マーケットプレイス「ツクツク!!／クムクム」を通じ、新たな事業部としてEC事業部を立ち上げ、現在1\,400社を超える代理店及び加盟店網を構築する。株式会社JANDO代表取締役。クムクム代理店最高位エグゼクティブマネージャー。二児の父。 \n
URL:https://norcommunications.com/events/bt-25/
LOCATION:BIZ新宿\, 西新宿６丁目８−２\, 新宿区\, 東京都\, 160-0023\, 日本
CATEGORIES:BT,東京
END:VEVENT
END:VCALENDAR