BEGIN:VCALENDAR
VERSION:2.0
PRODID:-//NOR Communications Group｜ノアコミュニケーションズグループ公式サイト - ECPv5.0.2.1//NONSGML v1.0//EN
CALSCALE:GREGORIAN
METHOD:PUBLISH
X-WR-CALNAME:NOR Communications Group｜ノアコミュニケーションズグループ公式サイト
X-ORIGINAL-URL:https://norcommunications.com
X-WR-CALDESC:NOR Communications Group｜ノアコミュニケーションズグループ公式サイト のイベント
BEGIN:VTIMEZONE
TZID:Asia/Tokyo
BEGIN:STANDARD
TZOFFSETFROM:+0900
TZOFFSETTO:+0900
TZNAME:JST
DTSTART:20190101T000000
END:STANDARD
END:VTIMEZONE
BEGIN:VEVENT
DTSTART;TZID=Asia/Tokyo:20191010T140000
DTEND;TZID=Asia/Tokyo:20191010T163000
DTSTAMP:20260426T004308
CREATED:20190825T141433Z
LAST-MODIFIED:20191006T003700Z
UID:7134-1570716000-1570725000@norcommunications.com
SUMMARY:14:00-東京 BT ■Webチケット
DESCRIPTION:ビルダートレーニング【新宿】\n内容：ビルダー必須10ポイントトレーニング\n講師：松尾悠司GM／竹内大将GM\n会場：BIZ新宿《地図》\n受付：13:30~14:00\n時間：14:00~16:30\n費用：1\,800円（税込1\,980円）\n《Webチケットはこちらから》\n※B10シート付き \n※こちらのセミナーはウェブチケット制となっております。\nウェブチケットをお持ちでない方はご入場できませんので予めご了承ください。\nウェブチケットはノアコミュニケーションズ公式ストアよりご購入いただけます。\n（代理店ユーザーアカウントでログインの上、ご利用ください。代理店ユーザーアカウントでログインされませんとご希望の商品が表示されない場合がございます。） \n\n◎一部講師：松尾悠司（まつおゆうじ）\n1987年7月28日生まれ。石川県七尾市出身。\n専門学校卒業後、日本航空JALグランドサービスでグランドハンドリング業務に従事。25歳で脱サラ。営業職、流通ビジネス、飲食店と様々な職場を経験し、2015年11月にツクツク!!／クムクム代理店登録。代理店事業参入から18か月でチーフマネージャーに昇格（当時29歳）、また2018年3月に30歳でゼネラルマネージャーに昇格する。現在約5\,000社の代理店の中で最年少ゼネラルマネージャー。Man de Dalla株式会社代表取締役。 \n◎二部講師：竹内大将（たけうちだいすけ）\n1982年7月25日生まれ。神奈川県川崎市出身。\n10歳から大学までプロサッカー選手を目指し青春を燃やした、体育会系の熱血漢。23歳という若さで「自分の収入は自分で決めたい」と、IT機器営業会社を退職し脱サラ。2007年9月のクムクム株式会社設立当初よりクムクム代理店事業に参画する。持ち前の行動力で全国各地を飛び回るトップ代理店の一人であり、現在急拡大中の沖縄ツクツクの立役者。ノアコミュニケーションズ四谷営業所長。一児の父。 \n
URL:https://norcommunications.com/events/bt-26/
LOCATION:BIZ新宿\, 西新宿６丁目８−２\, 新宿区\, 東京都\, 160-0023\, 日本
CATEGORIES:BT,東京
END:VEVENT
END:VCALENDAR