BEGIN:VCALENDAR
VERSION:2.0
PRODID:-//NOR Communications Group｜ノアコミュニケーションズグループ公式サイト - ECPv5.0.2.1//NONSGML v1.0//EN
CALSCALE:GREGORIAN
METHOD:PUBLISH
X-WR-CALNAME:NOR Communications Group｜ノアコミュニケーションズグループ公式サイト
X-ORIGINAL-URL:https://norcommunications.com
X-WR-CALDESC:NOR Communications Group｜ノアコミュニケーションズグループ公式サイト のイベント
BEGIN:VTIMEZONE
TZID:Asia/Tokyo
BEGIN:STANDARD
TZOFFSETFROM:+0900
TZOFFSETTO:+0900
TZNAME:JST
DTSTART:20190101T000000
END:STANDARD
END:VTIMEZONE
BEGIN:VEVENT
DTSTART;TZID=Asia/Tokyo:20191121T170000
DTEND;TZID=Asia/Tokyo:20191121T193000
DTSTAMP:20260425T231136
CREATED:20191009T010921Z
LAST-MODIFIED:20200106T005321Z
UID:7501-1574355600-1574364600@norcommunications.com
SUMMARY:17:00-新潟 BT ■Webチケット ※B10シート改定！
DESCRIPTION:ビルダートレーニング【新潟】\n内容：ビルダー必須10ポイントトレーニング\n講師：清水東燁CM／竹内大将GM\n会場：ノアコミュニケーションズ新潟営業所《地図》\n受付：16:30~17:00\n時間：17:00~19:30\n費用：1\,800円（税込1\,980円）\n《Webチケットはこちらから》\n※B10シート付き 2019年11月改訂版 New! \n※こちらのセミナーはウェブチケット制となっております。\nウェブチケットをお持ちでない方はご入場できませんので予めご了承ください。\nウェブチケットはノアコミュニケーションズ公式ストアよりご購入いただけます。\n（代理店ユーザーアカウントでログインの上、ご利用ください。代理店ユーザーアカウントでログインされませんとご希望の商品が表示されない場合がございます。） \n
URL:https://norcommunications.com/events/niigata-28/
LOCATION:ノアコミュニケーションズ新潟営業所\, 中央区米山１丁目１−２６\, 新潟市\, 新潟県\, 950-0916\, 日本
CATEGORIES:BT,新潟
END:VEVENT
END:VCALENDAR