BEGIN:VCALENDAR
VERSION:2.0
PRODID:-//NOR Communications Group｜ノアコミュニケーションズグループ公式サイト - ECPv5.0.2.1//NONSGML v1.0//EN
CALSCALE:GREGORIAN
METHOD:PUBLISH
X-WR-CALNAME:NOR Communications Group｜ノアコミュニケーションズグループ公式サイト
X-ORIGINAL-URL:https://norcommunications.com
X-WR-CALDESC:NOR Communications Group｜ノアコミュニケーションズグループ公式サイト のイベント
BEGIN:VTIMEZONE
TZID:Asia/Tokyo
BEGIN:STANDARD
TZOFFSETFROM:+0900
TZOFFSETTO:+0900
TZNAME:JST
DTSTART:20190101T000000
END:STANDARD
END:VTIMEZONE
BEGIN:VEVENT
DTSTART;TZID=Asia/Tokyo:20191227T140000
DTEND;TZID=Asia/Tokyo:20191227T170000
DTSTAMP:20260425T214918
CREATED:20191022T065020Z
LAST-MODIFIED:20200223T044619Z
UID:7561-1577455200-1577466000@norcommunications.com
SUMMARY:14:00-沖縄 BT ■Webチケット
DESCRIPTION:ビルダートレーニング【沖縄】\n内容：ビルダー必須10ポイントトレーニング\n講師：小谷実穂EM／漢那宗貴CM／竹内大将GM\n会場：沖縄空手会館 研修室A《地図》\n受付：13:30~14:00\n時間：14:00~17:00\n費用：1\,800円（税込1\,980円）\n《Webチケットはこちらから》 \n※こちらのセミナーはウェブチケット制となっております。\nウェブチケットをお持ちでない方はご入場できませんので予めご了承ください。\nウェブチケットはノアコミュニケーションズ公式ストアよりご購入いただけます。\n（代理店ユーザーアカウントでログインの上、ご利用ください。代理店ユーザーアカウントでログインされませんとご希望の商品が表示されない場合がございます。） \n
URL:https://norcommunications.com/events/okinawa-6/
LOCATION:沖縄空手会館\, 字豊見城854-1\, 豊見城市\, 沖縄県\, 日本
CATEGORIES:BT,沖縄
END:VEVENT
END:VCALENDAR