BEGIN:VCALENDAR
VERSION:2.0
PRODID:-//NOR Communications Group｜ノアコミュニケーションズグループ公式サイト - ECPv5.0.2.1//NONSGML v1.0//EN
CALSCALE:GREGORIAN
METHOD:PUBLISH
X-WR-CALNAME:NOR Communications Group｜ノアコミュニケーションズグループ公式サイト
X-ORIGINAL-URL:https://norcommunications.com
X-WR-CALDESC:NOR Communications Group｜ノアコミュニケーションズグループ公式サイト のイベント
BEGIN:VTIMEZONE
TZID:Asia/Tokyo
BEGIN:STANDARD
TZOFFSETFROM:+0900
TZOFFSETTO:+0900
TZNAME:JST
DTSTART:20200101T000000
END:STANDARD
END:VTIMEZONE
BEGIN:VEVENT
DTSTART;TZID=Asia/Tokyo:20200215T140000
DTEND;TZID=Asia/Tokyo:20200215T180000
DTSTAMP:20260425T012657
CREATED:20191009T052749Z
LAST-MODIFIED:20200129T203824Z
UID:7532-1581775200-1581789600@norcommunications.com
SUMMARY:14:00-NOR会議
DESCRIPTION:ノアコミュニケーションズ マネージャー会議\n会場：クムクム本社ビルダーズプレイス《地図》\n時間：14:00~18:00\n参加資格：マネージャー以上\n※CM以上13:30集合 \n
URL:https://norcommunications.com/events/kaigi-43/
LOCATION:クムクム株式会社\, 芝公園2-11-1 住友不動産芝公園タワー1F\, 港区\, 東京都\, 105-0011
CATEGORIES:会議,東京
END:VEVENT
END:VCALENDAR