BEGIN:VCALENDAR
VERSION:2.0
PRODID:-//NOR Communications Group｜ノアコミュニケーションズグループ公式サイト - ECPv5.0.2.1//NONSGML v1.0//EN
CALSCALE:GREGORIAN
METHOD:PUBLISH
X-WR-CALNAME:NOR Communications Group｜ノアコミュニケーションズグループ公式サイト
X-ORIGINAL-URL:https://norcommunications.com
X-WR-CALDESC:NOR Communications Group｜ノアコミュニケーションズグループ公式サイト のイベント
BEGIN:VTIMEZONE
TZID:Asia/Tokyo
BEGIN:STANDARD
TZOFFSETFROM:+0900
TZOFFSETTO:+0900
TZNAME:JST
DTSTART:20220101T000000
END:STANDARD
END:VTIMEZONE
BEGIN:VEVENT
DTSTART;TZID=Asia/Tokyo:20221003T150000
DTEND;TZID=Asia/Tokyo:20221003T150000
DTSTAMP:20260423T022837
CREATED:20220318T130849Z
LAST-MODIFIED:20220917T110926Z
UID:11216-1664809200-1664809200@norcommunications.com
SUMMARY:15:00～ノアコミュニケーションズGM会議
DESCRIPTION:ノアコミュニケーションズGM会議\n会場：オンライン開催\n時間：15:00~\n参加資格：GM、EM \n
URL:https://norcommunications.com/events/kaigi-68/
CATEGORIES:会議
END:VEVENT
END:VCALENDAR