BEGIN:VCALENDAR
VERSION:2.0
PRODID:-//NOR Communications Group｜ノアコミュニケーションズグループ公式サイト - ECPv5.0.2.1//NONSGML v1.0//EN
CALSCALE:GREGORIAN
METHOD:PUBLISH
X-WR-CALNAME:NOR Communications Group｜ノアコミュニケーションズグループ公式サイト
X-ORIGINAL-URL:https://norcommunications.com
X-WR-CALDESC:NOR Communications Group｜ノアコミュニケーションズグループ公式サイト のイベント
BEGIN:VTIMEZONE
TZID:Asia/Tokyo
BEGIN:STANDARD
TZOFFSETFROM:+0900
TZOFFSETTO:+0900
TZNAME:JST
DTSTART:20200101T000000
END:STANDARD
END:VTIMEZONE
BEGIN:VEVENT
DTSTART;TZID=Asia/Tokyo:20200224T140000
DTEND;TZID=Asia/Tokyo:20200224T164000
DTSTAMP:20260425T155255
CREATED:20191117T195649Z
LAST-MODIFIED:20200211T114400Z
UID:7699-1582552800-1582562400@norcommunications.com
SUMMARY:14:00-東京 東日本代理店報酬制度勉強会 ■Webチケット
DESCRIPTION:\n\n	代理店報酬制度勉強会ではクムクム代理店の報酬制度の詳細と対策方法を学ぶことができます。\nまた報酬制度からみたクムクム代理店の様々な収益システムを知ることができますので代理店事業展開の組み立てにお役立ていただけます。 \n\n東日本代理店報酬制度勉強会【新宿】\n内容：ツクツク/クムクム代理店報酬制度の解説と対策\n講師：小谷実穂EM\n会場：BIZ新宿《地図》\n受付：13:30~14:00\n時間：14:00~16:40\n費用：1\,800円（税込1\,980円）\n《Webチケットはこちらから》\n※オリジナル資料冊子付き\n※公式代理店インセンティブパンフレットをご用意の上、ご参加くださいますようお願い申し上げます。 \n各種公式パンフレットはクムクム代理店サイトにてお求めいただけます。\n→ https://agent.kumu2.jp/ \n  \n◎講師紹介：小谷実穂（こたにみほ）\n1980年1月26日生まれ。広島県広島市出身。\nチームボリュームは3\,000社を超え、全国のクムクム代理店の中で女性ナンバーワンの実績を誇る小谷実穂EM。20代でエステ店経営を経験し、ご実家が東京銀座の菓子問屋ということもあり、問屋業にも精通。若くして「商売道」を知り尽くし、今もなお急成長を続けるトップ代理店。株式会社ワンネス代表取締役。クムクム代理店最高位エグゼクティブマネージャー。 \n\n※こちらのセミナーはウェブチケット制となっております。\nウェブチケットをお持ちでない方はご入場いただけませんので予めご了承ください。\nウェブチケットはノアコミュニケーションズ公式ストア「NORCOM STORE」よりご購入いただけます。\n（代理店ユーザーアカウントでログインの上、ご利用ください。代理店ユーザーアカウントでログインされませんとご希望の商品が表示されない場合がございます。）\n\n
URL:https://norcommunications.com/events/ms-18/
LOCATION:BIZ新宿\, 西新宿６丁目８−２\, 新宿区\, 東京都\, 160-0023\, 日本
CATEGORIES:MS,東京
END:VEVENT
END:VCALENDAR