BEGIN:VCALENDAR
VERSION:2.0
PRODID:-//NOR Communications Group｜ノアコミュニケーションズグループ公式サイト - ECPv5.0.2.1//NONSGML v1.0//EN
CALSCALE:GREGORIAN
METHOD:PUBLISH
X-WR-CALNAME:NOR Communications Group｜ノアコミュニケーションズグループ公式サイト
X-ORIGINAL-URL:https://norcommunications.com
X-WR-CALDESC:NOR Communications Group｜ノアコミュニケーションズグループ公式サイト のイベント
BEGIN:VTIMEZONE
TZID:Asia/Tokyo
BEGIN:STANDARD
TZOFFSETFROM:+0900
TZOFFSETTO:+0900
TZNAME:JST
DTSTART:20200101T000000
END:STANDARD
END:VTIMEZONE
BEGIN:VEVENT
DTSTART;TZID=Asia/Tokyo:20200526T133000
DTEND;TZID=Asia/Tokyo:20200526T160000
DTSTAMP:20260425T105530
CREATED:20200406T163827Z
LAST-MODIFIED:20200507T234856Z
UID:8553-1590499800-1590508800@norcommunications.com
SUMMARY:《開催中止》13:30-大阪 西日本代理店報酬制度勉強会 ■Webチケット
DESCRIPTION:\n\n	代理店報酬制度勉強会ではクムクム代理店の報酬制度の詳細と対策方法を学ぶことができます。\nまた報酬制度からみたクムクム代理店の様々な収益システムを知ることができますので代理店事業展開の組み立てにお役立ていただけます。 \n\n西日本代理店報酬制度勉強会【大阪】\n内容：ツクツク/クムクム代理店報酬制度の解説と対策\n講師：未定\n会場：ハートンホテル北梅田《地図》\n受付：13:00~13:30\n時間：13:30~16:00\n費用：1\,800円（税込1\,980円）\n《Webチケットはこちらから》\n※改定版最新オリジナル冊子付き\n※公式代理店インセンティブパンフレットをご用意の上、ご参加くださいますようお願い申し上げます。 \n各種公式パンフレットはクムクム代理店サイトにてお求めいただけます。\n→ https://agent.kumu2.jp/ \n\n※こちらのセミナーはウェブチケット制となっております。\nウェブチケット受付開始までしばらくお待ちください。\n\n
URL:https://norcommunications.com/events/ms-22/
LOCATION:ハートンホテル北梅田\, 北区豊崎３丁目１２−１０\, 大阪市\, 大阪府\, 531-0072\, 日本
CATEGORIES:MS,大阪
END:VEVENT
END:VCALENDAR