BEGIN:VCALENDAR
VERSION:2.0
PRODID:-//NOR Communications Group｜ノアコミュニケーションズグループ公式サイト - ECPv5.0.2.1//NONSGML v1.0//EN
CALSCALE:GREGORIAN
METHOD:PUBLISH
X-WR-CALNAME:NOR Communications Group｜ノアコミュニケーションズグループ公式サイト
X-ORIGINAL-URL:https://norcommunications.com
X-WR-CALDESC:NOR Communications Group｜ノアコミュニケーションズグループ公式サイト のイベント
BEGIN:VTIMEZONE
TZID:Asia/Tokyo
BEGIN:STANDARD
TZOFFSETFROM:+0900
TZOFFSETTO:+0900
TZNAME:JST
DTSTART:20190101T000000
END:STANDARD
END:VTIMEZONE
BEGIN:VEVENT
DTSTART;TZID=Asia/Tokyo:20191026T190000
DTEND;TZID=Asia/Tokyo:20191026T213000
DTSTAMP:20260419T181914
CREATED:20190825T141714Z
LAST-MODIFIED:20200106T005801Z
UID:7136-1572116400-1572125400@norcommunications.com
SUMMARY:19:00-東京 L&M ■Webチケット
DESCRIPTION:リーダーシップ＆マネジメント【新宿】\n講師：竹内大将GM／中山浩和EM\n会場：BIZ新宿《地図》\n受付：18:30~19:00\n時間：19:00~21:30\n費用：1\,800円（税込1\,980円）\n《Webチケットはこちらから》 \n※こちらのセミナーはウェブチケット制となっております。\nウェブチケットをお持ちでない方はご入場できませんので予めご了承ください。\nウェブチケットはノアコミュニケーションズ公式ストアよりご購入いただけます。\n（代理店ユーザーアカウントでログインの上、ご利用ください。代理店ユーザーアカウントでログインされませんとご希望の商品が表示されない場合がございます。） \n\n◎一部講師：竹内大将（たけうちだいすけ）\n1982年7月25日生まれ。神奈川県川崎市出身。\n10歳から大学までプロサッカー選手を目指し青春を燃やした、体育会系の熱血漢。23歳という若さで「自分の収入は自分で決めたい」と、IT機器営業会社を退職し脱サラ。2007年9月のクムクム株式会社設立当初よりクムクム代理店事業に参画する。持ち前の行動力で全国各地を飛び回るトップ代理店の一人であり、現在急拡大中の沖縄ツクツクの立役者。ノアコミュニケーションズ四谷営業所長。一児の父。 \n◎二部講師：中山浩和（なかやまひろかず）\n1979年10月19日生まれ。東京都大田区出身。\n日本工学院インターネット科を卒業するもプロレスに憧れ、プロレスラーを目指しつつラーメン店で修行。20代にラーメン事業で独立した異色の経歴の持ち主。ラーメン事業は参入から15年、フランチャイズ店含めて9店舗展開する「ラーメン醤道グループ」のオーナー。2013年より、マーケットプレイス「ツクツク!!／クムクム」を通じ、新たな事業部としてEC事業部を立ち上げ、現在1\,400社を超える代理店及び加盟店網を構築する。株式会社JANDO代表取締役。クムクム代理店最高位エグゼクティブマネージャー。二児の父。 \n
URL:https://norcommunications.com/events/lm-40/
LOCATION:BIZ新宿\, 西新宿６丁目８−２\, 新宿区\, 東京都\, 160-0023\, 日本
CATEGORIES:リーダーシップ＆マネジメント,東京
END:VEVENT
END:VCALENDAR