BEGIN:VCALENDAR
VERSION:2.0
PRODID:-//NOR Communications Group｜ノアコミュニケーションズグループ公式サイト - ECPv5.0.2.1//NONSGML v1.0//EN
CALSCALE:GREGORIAN
METHOD:PUBLISH
X-WR-CALNAME:NOR Communications Group｜ノアコミュニケーションズグループ公式サイト
X-ORIGINAL-URL:https://norcommunications.com
X-WR-CALDESC:NOR Communications Group｜ノアコミュニケーションズグループ公式サイト のイベント
BEGIN:VTIMEZONE
TZID:Asia/Tokyo
BEGIN:STANDARD
TZOFFSETFROM:+0900
TZOFFSETTO:+0900
TZNAME:JST
DTSTART:20200101T000000
END:STANDARD
END:VTIMEZONE
BEGIN:VEVENT
DTSTART;TZID=Asia/Tokyo:20200113T140000
DTEND;TZID=Asia/Tokyo:20200113T163000
DTSTAMP:20260419T192008
CREATED:20191117T191403Z
LAST-MODIFIED:20200106T005613Z
UID:7680-1578924000-1578933000@norcommunications.com
SUMMARY:14:00-東京 一年の計はここにあり！ニューイヤーL＆M ■Webチケット
DESCRIPTION:一年の計は元旦にあり！\n一年の計は春にあり！\n一年の計はここにあり！\n2020年最初のリーダーシップ＆マネジメントセミナーはエグゼクティブマネージャー2名による超豪華講師！\nこの機会をどうぞお見逃しなく！！ \n\nリーダーシップ＆マネジメント【新宿】\n講師：中山浩和EM／小谷実穂EM\n会場：BIZ新宿《地図》\n受付：13:30~14:00\n時間：14:00~16:30\n費用：1\,800円（税込1\,980円）\n《Webチケットはこちらから》 \n※こちらのセミナーはウェブチケット制となっております。\nウェブチケットをお持ちでない方はご入場できませんので予めご了承ください。\nウェブチケットはノアコミュニケーションズ公式ストアよりご購入いただけます。\n（代理店ユーザーアカウントでログインの上、ご利用ください。代理店ユーザーアカウントでログインされませんとご希望の商品が表示されない場合がございます。） \n\n◎一部講師：中山浩和（なかやまひろかず）\n1979年10月19日生まれ。東京都大田区出身。\n日本工学院インターネット科を卒業するもプロレスに憧れ、プロレスラーを目指しつつラーメン店で修行。20代にラーメン事業で独立した異色の経歴の持ち主。ラーメン事業は参入から15年、フランチャイズ店含めて9店舗展開する「ラーメン醤道グループ」のオーナー。2013年より、マーケットプレイス「ツクツク!!／クムクム」を通じ、新たな事業部としてEC事業部を立ち上げ、現在1\,700社を超える代理店及び加盟店網を構築する。株式会社JANDO代表取締役。クムクム代理店最高位エグゼクティブマネージャー。二児の父。 \n◎二部講師：小谷実穂（こたにみほ）\n1980年1月26日生まれ。広島県広島市出身。\nチームボリュームは3\,000社を超え、全国のクムクム代理店の中で女性ナンバーワンの実績を誇る小谷実穂EM。20代でエステ店経営を経験し、ご実家が東京銀座の菓子問屋ということもあり、問屋業にも精通。若くして「商売道」を知り尽くし、今もなお急成長を続けるトップ代理店。株式会社ワンネス代表取締役。クムクム代理店最高位エグゼクティブマネージャー。 \n
URL:https://norcommunications.com/events/lm-43/
LOCATION:BIZ新宿\, 西新宿６丁目８−２\, 新宿区\, 東京都\, 160-0023\, 日本
CATEGORIES:リーダーシップ＆マネジメント,東京
END:VEVENT
END:VCALENDAR