BEGIN:VCALENDAR
VERSION:2.0
PRODID:-//NOR Communications Group｜ノアコミュニケーションズグループ公式サイト - ECPv5.0.2.1//NONSGML v1.0//EN
CALSCALE:GREGORIAN
METHOD:PUBLISH
X-WR-CALNAME:NOR Communications Group｜ノアコミュニケーションズグループ公式サイト
X-ORIGINAL-URL:https://norcommunications.com
X-WR-CALDESC:NOR Communications Group｜ノアコミュニケーションズグループ公式サイト のイベント
BEGIN:VTIMEZONE
TZID:Asia/Tokyo
BEGIN:STANDARD
TZOFFSETFROM:+0900
TZOFFSETTO:+0900
TZNAME:JST
DTSTART:20200101T000000
END:STANDARD
END:VTIMEZONE
BEGIN:VEVENT
DTSTART;TZID=Asia/Tokyo:20200610T190000
DTEND;TZID=Asia/Tokyo:20200610T220000
DTSTAMP:20260421T111534
CREATED:20200528T235124Z
LAST-MODIFIED:20200529T014653Z
UID:8882-1591815600-1591826400@norcommunications.com
SUMMARY:★★★19時～オンラインセミナー 代理店事業解説
DESCRIPTION:【オンライン開催】6月10日19時〜代理店事業解説（講師：竹内大将）リアルタイム配信オンラインセミナー \nセミナー内容／参加方法 ⇒　https://ticket.tsuku2.jp/eventsDetail.php?ecd=52250290500654\n※ 代理店ユーザーアカウントでログインの上、ご利用ください。代理店ユーザーアカウントでログインされませんとご希望の商品が表示されない場合がございます。 \n
URL:https://norcommunications.com/events/webinar-3/
CATEGORIES:オンラインセミナー
END:VEVENT
END:VCALENDAR